BEGIN:VCALENDAR
VERSION:2.0
PRODID:-//Planit Canada - ECPv6.15.15//NONSGML v1.0//EN
CALSCALE:GREGORIAN
METHOD:PUBLISH
X-WR-CALNAME:Planit Canada
X-ORIGINAL-URL:https://planitcanada.ca
X-WR-CALDESC:Events for Planit Canada
REFRESH-INTERVAL;VALUE=DURATION:PT1H
X-Robots-Tag:noindex
X-PUBLISHED-TTL:PT1H
BEGIN:VTIMEZONE
TZID:UTC
BEGIN:STANDARD
TZOFFSETFROM:+0000
TZOFFSETTO:+0000
TZNAME:UTC
DTSTART:20200101T000000
END:STANDARD
END:VTIMEZONE
BEGIN:VEVENT
DTSTART;TZID=UTC:20211021T160000
DTEND;TZID=UTC:20211021T170000
DTSTAMP:20260419T172402
CREATED:20210930T141535Z
LAST-MODIFIED:20221130T203125Z
UID:6445-1634832000-1634835600@planitcanada.ca
SUMMARY:From Wireframe Projects to High-Impact Experiences In Less Than 45 Minutes
DESCRIPTION:Live step by step webinar demonstrating the efficient VORTEK Spaces workflow from SketchUp or Cabinet Vision: \n\nLoad your CAD project\,\nAdd materials\,  lighting\, and 3D accessories to create stunning 3D visits in no time.\nChange and tweak everything live then create interactive visits\, high quality images\, video visits\,\n360 video visits\, and even interactive VR visits. Your projects deserve it.\n\nEverything you need in less than an hour to get started using VORTEK Spaces right away! \nHosted by Jonathan Blackburn\, the demonstration will be followed by a Q&A session. \nRegister here.
URL:https://planitcanada.ca/event/from-wireframe-projects-to-high-impact-experiences-in-less-than-45-minutes-3/
LOCATION:Ontario
CATEGORIES:Events,Webinars
ATTACH;FMTTYPE=image/png:https://planitcanada.ca/wp-content/uploads/2021/09/Screenshot-2021-09-29-155447.png
END:VEVENT
END:VCALENDAR