BEGIN:VCALENDAR
VERSION:2.0
PRODID:-//Planit Canada - ECPv6.15.15//NONSGML v1.0//EN
CALSCALE:GREGORIAN
METHOD:PUBLISH
X-WR-CALNAME:Planit Canada
X-ORIGINAL-URL:https://planitcanada.ca
X-WR-CALDESC:Events for Planit Canada
REFRESH-INTERVAL;VALUE=DURATION:PT1H
X-Robots-Tag:noindex
X-PUBLISHED-TTL:PT1H
BEGIN:VTIMEZONE
TZID:UTC
BEGIN:STANDARD
TZOFFSETFROM:+0000
TZOFFSETTO:+0000
TZNAME:UTC
DTSTART:20210101T000000
END:STANDARD
END:VTIMEZONE
BEGIN:VEVENT
DTSTART;VALUE=DATE:20220823
DTEND;VALUE=DATE:20220827
DTSTAMP:20260420T175533
CREATED:20220412T181424Z
LAST-MODIFIED:20220412T181525Z
UID:6888-1661212800-1661558399@planitcanada.ca
SUMMARY:IWF Atlanta - International Woodworking Fair
DESCRIPTION:[vc_row][vc_column][vc_single_image image=”6889″][/vc_column][/vc_row][vc_row css_animation=”slideInUp”][vc_column width=”1/4″][vc_single_image image=”6891″ css=”.vc_custom_1649786771518{padding-top: 20px !important;padding-right: 20px !important;padding-bottom: 20px !important;padding-left: 20px !important;}”][/vc_column][vc_column width=”3/4″][vc_column_text]The International Woodworking Fair® is North America’s largest woodworking technology and design trade show and conference and a top destination for the global woodworking sector. IWF delivers the latest solutions in architectural woodwork\, cabinetry\, flooring\, furniture manufacturing\, engineered products\, doors\, windows\, machinery\, tools\, metals\, plastics and more. IWF is where the woodworking business does business.[/vc_column_text][/vc_column][/vc_row][vc_row][vc_column][vc_column_text css_animation=”slideInUp”]\nVisit us at the Hexagon Manufacturing Intelligence Booth #B4513\nCABINET VISION is the most widely used design-for-manufacturing software capable of custom cabinet and room design\, photo-realistic renderings\, material optimization\, bidding and costing\, and cutlists and bill of materials. Combined with the powerful CABINET VISION Screen-to-Machine™ (S2M) Center\, it can automatically create machine-ready G-Code for CNC flat table routers\, point-to-point machines\, panel saws\, drill and dowel machines\, chop saws and other specialized CNC machinery.[/vc_column_text][/vc_column][/vc_row][vc_row][vc_column][vc_btn title=”Register now!” align=”center” css_animation=”slideInUp” link=”url:https%3A%2F%2Fregistration.experientevent.com%2FShowIWF221%2FFlow%2FATTFLOW%2F%23!%2Fregistrant%2F%2FWelcome%2F”][/vc_column][/vc_row]
URL:https://planitcanada.ca/event/iwf-atlanta-international-woodworking-fair/
LOCATION:Ontario
CATEGORIES:Events,Trade Show
ATTACH;FMTTYPE=image/jpeg:https://planitcanada.ca/wp-content/uploads/2022/04/IWF-Logo-2022.jpeg
END:VEVENT
END:VCALENDAR