BEGIN:VCALENDAR
VERSION:2.0
PRODID:-//Planit Canada - ECPv6.15.15//NONSGML v1.0//EN
CALSCALE:GREGORIAN
METHOD:PUBLISH
X-WR-CALNAME:Planit Canada
X-ORIGINAL-URL:https://planitcanada.ca
X-WR-CALDESC:Events for Planit Canada
REFRESH-INTERVAL;VALUE=DURATION:PT1H
X-Robots-Tag:noindex
X-PUBLISHED-TTL:PT1H
BEGIN:VTIMEZONE
TZID:UTC
BEGIN:STANDARD
TZOFFSETFROM:+0000
TZOFFSETTO:+0000
TZNAME:UTC
DTSTART:20210101T000000
END:STANDARD
END:VTIMEZONE
BEGIN:VEVENT
DTSTART;VALUE=DATE:20220929
DTEND;VALUE=DATE:20221002
DTSTAMP:20260420T142316
CREATED:20220412T184806Z
LAST-MODIFIED:20220906T175408Z
UID:6899-1664409600-1664668799@planitcanada.ca
SUMMARY:CKCA National Forum in Ontario
DESCRIPTION:[vc_row css_animation=”slideInUp”][vc_column width=”2/3″][vc_column_text]\nThe CKCA plans to resume face-to-face events in 2022!\nFormat: Thursday/Friday and 1/2 day Saturday\nLocation: Waterloo\, Ontario (and surrounding areas)\nProgram: Two and a half days of plant tours\, education and social networking \nPlant tours at Chervin Kitchen & Bath and Woodland Horizon (and more!) Thanks to those who agree to host plant tours. Our awesome clients are contributing to moving our industry forward and we are very grateful![/vc_column_text][/vc_column][vc_column width=”1/3″][vc_single_image image=”6900″][/vc_column][/vc_row][vc_row][vc_column][vc_btn title=”FIND OUT MORE AND REGISTER NOW!” align=”center” css_animation=”slideInUp” link=”url:https%3A%2F%2Fckca.ca%2Fevent%2Fckca-national-event-ontario-2022%2F”][/vc_column][/vc_row]
URL:https://planitcanada.ca/event/ckca-national-forum-in-ontario/
LOCATION:Ontario
CATEGORIES:Events,Shop Tour
ATTACH;FMTTYPE=image/jpeg:https://planitcanada.ca/wp-content/uploads/2022/04/CKCA_RGB_Horizontal_POS.jpg
END:VEVENT
END:VCALENDAR