BEGIN:VCALENDAR
VERSION:2.0
PRODID:-//Planit Canada - ECPv6.15.15//NONSGML v1.0//EN
CALSCALE:GREGORIAN
METHOD:PUBLISH
X-ORIGINAL-URL:https://planitcanada.ca
X-WR-CALDESC:Events for Planit Canada
REFRESH-INTERVAL;VALUE=DURATION:PT1H
X-Robots-Tag:noindex
X-PUBLISHED-TTL:PT1H
BEGIN:VTIMEZONE
TZID:UTC
BEGIN:STANDARD
TZOFFSETFROM:+0000
TZOFFSETTO:+0000
TZNAME:UTC
DTSTART:20210101T000000
END:STANDARD
END:VTIMEZONE
BEGIN:VEVENT
DTSTART;VALUE=DATE:20221027
DTEND;VALUE=DATE:20221030
DTSTAMP:20260420T142544
CREATED:20220906T181043Z
LAST-MODIFIED:20220912T150933Z
UID:7267-1666828800-1667087999@planitcanada.ca
SUMMARY:Salon Industriel du Bois Ouvré (SIBO)
DESCRIPTION:[vc_row][vc_column width=”1/2″][vc_column_text]CCI Canada\, Inc.\, the owner of the Toronto Woodworking Machinery & Supply Conference and Expo (WMS)\, proudly relaunches Salon Industriel du Bois Ouvre’ (SIBO) at the modern Centrexpo Cogeco in Drummondville. \nThe three-day SIBO 2022 will present the largest gathering place for Quebec woodworking professionals to connect and with key manufacturers and suppliers of equipment\, computer software\, hardware\, raw materials and more. Woodworkers will find innovative products and solutions to help them increase productivity\, improve quality\, expand into new markets and grow their profits.[/vc_column_text][/vc_column][vc_column width=”1/2″][vc_single_image image=”7268″][vc_empty_space][vc_btn title=”REGISTER NOW!” align=”center” link=”url:https%3A%2F%2Fwww.woodworkingnetwork.com%2Fevents%2Fsalon-industriel-du-bois-ouvre”][/vc_column][/vc_row][vc_row][vc_column][vc_column_text]\nPlanit Canada Booth 207\nPlanit Canada brands have been carefully chosen to drive every aspect of the design-to-manufacture process and improve the efficiency of woodworking operations. Planit invites woodworkers looking to ramp up production\, automate processes\, make more money\, and stop wasting time\, to visit booth #207at Salon Industriel du Bois Ouvré (SIBO)\, October 27-29 2022 at the Centrexpo Cogeco. \nPlanit plans to display a range of its productivity solutions\, including the following. \nCabinet Vision is a widely-used software in the woodworking industry for the manufacture of closets\, kitchen and bathroom cabinets and other millwork projects. Go right from 3D presentation to manufacturing in moments. Planit will show new features in the latest version and answer questions about modules\, cut lists\, costing and bidding\, and more. Millworkers can ask about the submittals package. The Screen-to-Machine center will generate codes for most CNC machines\, so users can avoid going through intermediaries and incurring additional costs and delays. \nVortek Spaces is a sales tool which allows the use of virtual 3D technology to impress clients by quickly and easily customizing colours and materials on the fly and enabling them to sign their names on the dotted line more quickly. \nLeica Geosystems DISTO lasers provide detailed digital measurements in 3D to improve processes by making templating simple and increasing the accuracy of projects. Planit will demonstrate how the direct link to Cabinet Vision can be a game-changer. \nWEB-CAB is a Manufacturing Execution System (MES) that will optimize a shop by allowing users to track\, document\, and control their operations. Planit personnel can explain the 5-day implementation and fast ROI. \nKey factors to consider when adopting advanced technology presented by Christopher Mancliere\, senior software specialist of Planit Canada.[/vc_column_text][/vc_column][/vc_row]
URL:https://planitcanada.ca/event/sibo/
LOCATION:Centrexpo Cogeco\, 550\, rue Saint-Amant\, Drummondville\, Quebec\, J2C 6Z3\, Canada
CATEGORIES:Events,Trade Show
ATTACH;FMTTYPE=image/jpeg:https://planitcanada.ca/wp-content/uploads/2022/09/21SIBO_logo.jpg
END:VEVENT
END:VCALENDAR