BEGIN:VCALENDAR
VERSION:2.0
PRODID:-//Planit Canada - ECPv6.15.15//NONSGML v1.0//EN
CALSCALE:GREGORIAN
METHOD:PUBLISH
X-ORIGINAL-URL:https://planitcanada.ca
X-WR-CALDESC:Events for Planit Canada
REFRESH-INTERVAL;VALUE=DURATION:PT1H
X-Robots-Tag:noindex
X-PUBLISHED-TTL:PT1H
BEGIN:VTIMEZONE
TZID:UTC
BEGIN:STANDARD
TZOFFSETFROM:+0000
TZOFFSETTO:+0000
TZNAME:UTC
DTSTART:20230101T000000
END:STANDARD
END:VTIMEZONE
BEGIN:VEVENT
DTSTART;TZID=UTC:20240430T130000
DTEND;TZID=UTC:20240430T140000
DTSTAMP:20260420T110134
CREATED:20240326T191348Z
LAST-MODIFIED:20240405T152337Z
UID:8677-1714482000-1714485600@planitcanada.ca
SUMMARY:[WEBINAR] Grants made easy: Maximize your profits in today’s economy!
DESCRIPTION:[vc_row][vc_column][vc_raw_js]JTNDaWZyYW1lJTIwc3JjJTNEJTIyaHR0cHMlM0ElMkYlMkZiZS5wbGFuaXRjYW5hZGEuY2ElMkZsJTJGMTA2MTI3MiUyRjIwMjQtMDMtMjYlMkY3OW1jbiUyMiUyMHRpdGxlJTNEJTIyJTVCV0VCSU5BUiU1RCUyMEdyYW50cyUyMG1hZGUlMjBlYXN5JTNBJTIwTWF4aW1pemUlMjB5b3VyJTIwcHJvZml0cyUyMGluJTIwdG9kYXklMjdzJTIwZWNvbm9teSUyMiUyMHdpZHRoJTNEJTIyMTIwMCUyMiUyMGhlaWdodCUzRCUyMjE4MDAlMjIlM0UlM0MlMkZpZnJhbWUlM0U=[/vc_raw_js][/vc_column][/vc_row]
URL:https://planitcanada.ca/event/webinar-grants-made-easy-maximize-your-profits-in-todays-economy/
LOCATION:Ontario
CATEGORIES:Events,Webinars
ATTACH;FMTTYPE=image/png:https://planitcanada.ca/wp-content/uploads/2024/03/Webinar-Grants-Graphic-Apr-2024.png
END:VEVENT
END:VCALENDAR