BEGIN:VCALENDAR
VERSION:2.0
PRODID:-//Planit Canada - ECPv6.15.15//NONSGML v1.0//EN
CALSCALE:GREGORIAN
METHOD:PUBLISH
X-ORIGINAL-URL:https://planitcanada.ca
X-WR-CALDESC:Events for Planit Canada
REFRESH-INTERVAL;VALUE=DURATION:PT1H
X-Robots-Tag:noindex
X-PUBLISHED-TTL:PT1H
BEGIN:VTIMEZONE
TZID:UTC
BEGIN:STANDARD
TZOFFSETFROM:+0000
TZOFFSETTO:+0000
TZNAME:UTC
DTSTART:20250101T000000
END:STANDARD
END:VTIMEZONE
BEGIN:VEVENT
DTSTART;VALUE=DATE:20260506
DTEND;VALUE=DATE:20260509
DTSTAMP:20260420T125545
CREATED:20260416T155643Z
LAST-MODIFIED:20260416T160257Z
UID:10300-1778025600-1778284799@planitcanada.ca
SUMMARY:StoneTech Canada Expo
DESCRIPTION:[vc_row][vc_column][vc_column_text css=””]\n\nPlanit Canada at StoneTech Canada 2026 \nSee the countertop workflow from measurement to CNC\nJoin Planit Canada and our partner Abtech at booth 4007 to discover a smarter countertop workflow powered by Leica iCS50 and ALPHACAM. \nMeasure on-site with the Leica iCS50\, capture accurate real-world data\, and bring it directly into ALPHACAM for cutouts\, edge details\, polishing\, and efficient machining. It is a connected workflow built to help countertop shops reduce rework\, improve accuracy\, and move from site measurement to production with more confidence. \n\nEvent Details\nEvent: StoneTech Canada Expo 2026 \nDates: May 6 to 8\, 2026 \nLocation: The International Centre\, Hall 4\, Toronto\, Canada \nBooth: 4007 \nPromo code for free registration: STCFLASHFREE \n\nCome see how Planit Canada and Abtech help connect digital templating and CNC programming for faster\, more reliable countertop production. \nREGISTER NOW \n\n[/vc_column_text][/vc_column][/vc_row]
URL:https://planitcanada.ca/event/stonetech-canada-expo/
LOCATION:The International Centre\, 6900 Airport Rd\, Mississauga\, Ontario\, L4V 1E8\, Canada
CATEGORIES:Events,Networking,Trade Show
ATTACH;FMTTYPE=image/png:https://planitcanada.ca/wp-content/uploads/2026/04/SToneTechExpo2026_Planit_Abtech.png
END:VEVENT
BEGIN:VEVENT
DTSTART;VALUE=DATE:20260512
DTEND;VALUE=DATE:20260515
DTSTAMP:20260420T125545
CREATED:20260203T164804Z
LAST-MODIFIED:20260203T175858Z
UID:10084-1778544000-1778803199@planitcanada.ca
SUMMARY:CKCA Spring Regional in Hamilton\, Ontario
DESCRIPTION:[vc_row content_placement=”middle”][vc_column][vc_single_image image=”1953″ img_size=”medium” alignment=”center”][vc_column_text css=””]\nCKCA Spring Regional 2026 – Cabinetry Tours\, Networking & Technology Insights\nMay 12–14\, 2026 | Hamilton\, Ontario & Surrounding Area \nJoin Planit Canada at the CKCA Spring Regional Event — a must-attend gathering for Canadian cabinetmakers\, millworkers\, and woodworking professionals. This three-day industry event offers an exclusive look inside leading manufacturing shops\, valuable networking opportunities\, and in-depth conversations about the future of cabinetmaking. \nPlant Tours You Won’t Want to Miss\nThis year’s lineup includes visits to: \n\nCarver Cabinetry\nProPly\nDiamond CNC\nCabinet Solutions\nMobel Cabinetry\nWoodoer\n…and more to be announced.\n\nWalk the floor\, see the machines in action\, and connect with industry peers who are rethinking efficiency and craftsmanship. \nMeet the Planit Canada Team\nOur team will be onsite throughout the event\, ready to chat about how Cabinet Vision and Alphacam are helping shops like yours: \n\nReduce design-to-production time\nSimplify CNC integration\nAutomate processes without losing craftsmanship\n\nEvent Schedule Highlights\nMay 12 (Evening): Welcome Reception \nMay 13: Full day of tours + dinner \nMay 14: More plant tours\, concluding by 5 PM \nLocation & Travel Info\nHotel: Sheraton Hamilton (TBC) \nAirports: Toronto Pearson International or John C. Munro Hamilton International \nRegistration Opens February 2026\nEvent details and updates on CKCA’s website[/vc_column_text][/vc_column][/vc_row]
URL:https://planitcanada.ca/event/ckca-spring-regional-hamilton-may2026/
LOCATION:Ontario
CATEGORIES:Events,Networking,Shop Tour
ATTACH;FMTTYPE=image/png:https://planitcanada.ca/wp-content/uploads/2019/02/CKCA_RGB_Horizontal_POS.png
END:VEVENT
BEGIN:VEVENT
DTSTART;VALUE=DATE:20260611
DTEND;VALUE=DATE:20260614
DTSTAMP:20260420T125545
CREATED:20260203T181229Z
LAST-MODIFIED:20260203T181229Z
UID:10085-1781136000-1781395199@planitcanada.ca
SUMMARY:AWMAC 2026 National Convention
DESCRIPTION:[vc_row][vc_column][vc_column_text css=””]\nBUILT TO LEAD:\nShaping the Future of Architectural Woodwork.\nQuébec City | June 11–13\, 2026 \nPlanit Canada is proud to participate in the AWMAC 2026 National Convention — one of the most important gatherings for Canada’s architectural woodwork community. Our team will be onsite and available to discuss how Cabinet Vision and Alphacam can help elevate your production\, improve precision\, and adapt to the challenges of a competitive and evolving market. \nThis year’s theme\, Built to Lead\, focuses on innovation\, sustainability\, and the future of architectural woodworking. If you’re a manufacturer\, shop owner\, designer\, or industry leader looking to stay ahead\, this is the place to be. \nWhat to Expect\n\nKeynotes that challenge and inspire\, featuring voices in design\, sustainability\, and Canadian manufacturing.\nPractical breakout sessions on everything from profitability to workforce development and emerging technologies.\nNetworking that matters\, with industry professionals from across Canada in an unforgettable setting.\nEvening events that celebrate Québec’s cultural richness and woodwork excellence.\n\nWhy Attend?\nThe AWMAC National Convention is more than a conference — it’s a chance to connect\, learn\, and shape the future of woodworking in Canada. Meet the Planit Canada team\, explore the latest in CAD/CAM software\, and get answers to your questions about optimizing your workflow from design to machine. \nSave the date: June 11–13\, 2026\nLocation: Québec City \nLearn more and register \n[/vc_column_text][/vc_column][/vc_row]
URL:https://planitcanada.ca/event/awmac-2026-national-convention/
LOCATION:Ontario
CATEGORIES:Events,Networking
ATTACH;FMTTYPE=image/png:https://planitcanada.ca/wp-content/uploads/2026/02/Screenshot-2026-02-03-at-1.11.17-PM.png
END:VEVENT
END:VCALENDAR