BEGIN:VCALENDAR
VERSION:2.0
PRODID:-//Planit Canada - ECPv6.15.15//NONSGML v1.0//EN
CALSCALE:GREGORIAN
METHOD:PUBLISH
X-ORIGINAL-URL:https://planitcanada.ca
X-WR-CALDESC:Events for Planit Canada
REFRESH-INTERVAL;VALUE=DURATION:PT1H
X-Robots-Tag:noindex
X-PUBLISHED-TTL:PT1H
BEGIN:VTIMEZONE
TZID:UTC
BEGIN:STANDARD
TZOFFSETFROM:+0000
TZOFFSETTO:+0000
TZNAME:UTC
DTSTART:20210101T000000
END:STANDARD
END:VTIMEZONE
BEGIN:VEVENT
DTSTART;TZID=UTC:20220913T133000
DTEND;TZID=UTC:20220913T143000
DTSTAMP:20260420T142713
CREATED:20220728T164841Z
LAST-MODIFIED:20220729T141208Z
UID:7229-1663075800-1663079400@planitcanada.ca
SUMMARY:[WEBINAR] Introduction to CABINET VISION
DESCRIPTION:[vc_row][vc_column][vc_single_image image=”7236″ alignment=”center” css=”.vc_custom_1659103909399{padding-right: 100px !important;padding-left: 100px !important;}”][/vc_column][/vc_row][vc_row][vc_column][vc_column_text]\nJoin us for this webinar:\nIntroduction to CABINET VISION\nDate: Tuesday\, 13 September 2022\nTime: 1:30pm EST\nIf you are looking for shop automation software and wondering what Cabinet Vision can do for your business\, this webinar is a must-attend! \nIn 45 minutes\, we’ll cover the following topics: \n\nDrawing walls and placing cabinets in your jobs.\nPricing and bidding from your engineering data.\nCommunicating your jobs to architects and potential clients with renderings\, presentations\, and shop drawings.\nCapturing field dimensions directly into CABINET VISION.\nSectioning the interior and exterior of your casegoods for unlimited customization.\nCreating all the reports your shop needs for production.\nSeamlessly sending your jobs to any type CNC machinery.\n\nThere will be time for questions and answers at the end of the webinar.\nWe hope to see you there![/vc_column_text][/vc_column][/vc_row][vc_row][vc_column][vc_btn title=”REGISTER NOW!” align=”center” i_icon_fontawesome=”fas fa-calendar-plus” css_animation=”slideInUp” add_icon=”true” link=”url:https%3A%2F%2Fteams.microsoft.com%2Fregistration%2F4wgsC_3lLUmnCYA1wRFmag%2CJMkifI0SqEKQFPvCgOEa5Q%2CDYSmMBhIdUSysolBcry7IQ%2CzpxAIkrlYkmpZg1OsjI2ow%2CnGVuMJwdGUSh7LKCh-zmug%2CeEnhf6PmhEyDwY5KGXU2Nw%3Fmode%3Dread%26tenantId%3D0b2c08e3-e5fd-492d-a709-8035c111666a|target:_blank”][/vc_column][/vc_row]
URL:https://planitcanada.ca/event/webinar-introduction-to-cabinet-vision/
LOCATION:Ontario
CATEGORIES:Events,Webinars
ATTACH;FMTTYPE=image/png:https://planitcanada.ca/wp-content/uploads/2022/07/HMI_CABINET_VISION_Introduction_Webinar_Social_Post_4x3_1200x673px.png
END:VEVENT
BEGIN:VEVENT
DTSTART;VALUE=DATE:20220929
DTEND;VALUE=DATE:20221002
DTSTAMP:20260420T142713
CREATED:20220412T184806Z
LAST-MODIFIED:20220906T175408Z
UID:6899-1664409600-1664668799@planitcanada.ca
SUMMARY:CKCA National Forum in Ontario
DESCRIPTION:[vc_row css_animation=”slideInUp”][vc_column width=”2/3″][vc_column_text]\nThe CKCA plans to resume face-to-face events in 2022!\nFormat: Thursday/Friday and 1/2 day Saturday\nLocation: Waterloo\, Ontario (and surrounding areas)\nProgram: Two and a half days of plant tours\, education and social networking \nPlant tours at Chervin Kitchen & Bath and Woodland Horizon (and more!) Thanks to those who agree to host plant tours. Our awesome clients are contributing to moving our industry forward and we are very grateful![/vc_column_text][/vc_column][vc_column width=”1/3″][vc_single_image image=”6900″][/vc_column][/vc_row][vc_row][vc_column][vc_btn title=”FIND OUT MORE AND REGISTER NOW!” align=”center” css_animation=”slideInUp” link=”url:https%3A%2F%2Fckca.ca%2Fevent%2Fckca-national-event-ontario-2022%2F”][/vc_column][/vc_row]
URL:https://planitcanada.ca/event/ckca-national-forum-in-ontario/
LOCATION:Ontario
CATEGORIES:Events,Shop Tour
ATTACH;FMTTYPE=image/jpeg:https://planitcanada.ca/wp-content/uploads/2022/04/CKCA_RGB_Horizontal_POS.jpg
END:VEVENT
BEGIN:VEVENT
DTSTART;TZID=UTC:20220929T113000
DTEND;TZID=UTC:20220929T151500
DTSTAMP:20260420T142713
CREATED:20220906T173947Z
LAST-MODIFIED:20220906T174523Z
UID:7262-1664451000-1664464500@planitcanada.ca
SUMMARY:WMCO Networking Event
DESCRIPTION:[vc_row][vc_column][vc_column_text]\nProduction Scheduling Roundtable & Technology Purchases – The Deciding Factors\nIn-Person & Live Streamed\nJoin the WMCO in discussing these topics in person or via live stream: \n\nEvaluating Purchasing Decisions on New Technology – A buyer’s guide to making the right choice.\nScheduling Solutions – A Roundtable Discussion: What keeps production moving along; what doesn’t; and what you can do about it?\n\nVenue Online or In-person at Humber College Woodworking Centre \nStarts Thu Sep 29 2022\, 11:30am EDT\nEnds Thu Sep 29 2022\, 03:15pm EDT \n  \n[/vc_column_text][vc_btn title=”Find out more and register here!” align=”center” css_animation=”slideInUp” link=”url:https%3A%2F%2Fwww.wmco.ca%2Feventcalendar%2F%23!event%2F2022%2F9%2F29%2Fwmco-networking-event-8211-in-person-live-streamed-export-readiness-event”][/vc_column][/vc_row]
URL:https://planitcanada.ca/event/wmco-networking-event/
LOCATION:Humber College\, 110 Carrier Dr\, Etobicoke\, Ontario\, M9W 5R1\, Canada
CATEGORIES:Events,Networking
ATTACH;FMTTYPE=image/png:https://planitcanada.ca/wp-content/uploads/2022/09/WMCOlogo-180pxTransparent.png
END:VEVENT
END:VCALENDAR